BEGIN:VCALENDAR
VERSION:2.0
PRODID:-//Grayslake Chamber Of Commerce - ECPv6.15.20//NONSGML v1.0//EN
CALSCALE:GREGORIAN
METHOD:PUBLISH
X-WR-CALNAME:Grayslake Chamber Of Commerce
X-ORIGINAL-URL:https://grayslakechamber.com
X-WR-CALDESC:Events for Grayslake Chamber Of Commerce
REFRESH-INTERVAL;VALUE=DURATION:PT1H
X-Robots-Tag:noindex
X-PUBLISHED-TTL:PT1H
BEGIN:VTIMEZONE
TZID:UTC
BEGIN:STANDARD
TZOFFSETFROM:+0000
TZOFFSETTO:+0000
TZNAME:UTC
DTSTART:20240101T000000
END:STANDARD
END:VTIMEZONE
BEGIN:VEVENT
DTSTART;TZID=UTC:20251129T120000
DTEND;TZID=UTC:20251213T170000
DTSTAMP:20260424T063707
CREATED:20251030T194745Z
LAST-MODIFIED:20251208T022759Z
UID:465-1764417600-1765645200@grayslakechamber.com
SUMMARY:75th Anniversary Bourbon Release and Cocktail Tour
DESCRIPTION:We partnered with Whiskey Acres Distilling (Dekalb\, Illinois) to create a one-of-a-kind Bourbon\, meticulously finished in Jamaican Rum barrels and aged on Amburana staves. Anticipate delightful notes of banana and cinnamon bark in this warming spirit\, perfect for the coming winter months.\n\nBottles of this exclusive Chamber’s 75th Bourbon will be available for purchase at Beer Bazaar for $75 (plus tax). A portion of each sale ($5) will be donated to the Chamber’s Small Business Grant\, supporting struggling Chamber members. \nParticipating Chamber member restaurants and bars in Grayslake\, including The Vine\, Beer Bazaar\, Black Lung Brewing\, Emil’s\, First Draft\, Charlie’s\, and 129 Center Cut\, will feature unique cocktails crafted to highlight this exceptional whiskey. While the cocktail will be available starting with the Festival of Lights & Holiday Market\, bottles can only be picked up from Beer Bazaar. \n\nCocktails: \nBlack Lung – Twist of Tradition  \nThe Vine – Snowday \nCenter Cut – Kingston Old Fashioned  \nBeer Bazaar – Amburanana \nCharlies – Bourbon Sunset \nFirst Draft – House Old Fashioned  \nEmil’s \nVOTE HERE \nTo purchase a bottle CLICK HERE
URL:https://grayslakechamber.com/event/75th-anniversary-bourbon-release-and-cocktail-tour/
LOCATION:Village Center
ATTACH;FMTTYPE=image/png:https://grayslakechamber.com/wp-content/uploads/2025/10/Barrel-Logo.png
END:VEVENT
END:VCALENDAR