BEGIN:VCALENDAR
VERSION:2.0
PRODID:-//Grayslake Chamber Of Commerce - ECPv6.15.20//NONSGML v1.0//EN
CALSCALE:GREGORIAN
METHOD:PUBLISH
X-ORIGINAL-URL:https://grayslakechamber.com
X-WR-CALDESC:Events for Grayslake Chamber Of Commerce
REFRESH-INTERVAL;VALUE=DURATION:PT1H
X-Robots-Tag:noindex
X-PUBLISHED-TTL:PT1H
BEGIN:VTIMEZONE
TZID:UTC
BEGIN:STANDARD
TZOFFSETFROM:+0000
TZOFFSETTO:+0000
TZNAME:UTC
DTSTART:20250101T000000
END:STANDARD
END:VTIMEZONE
BEGIN:VEVENT
DTSTART;TZID=UTC:20260711T080000
DTEND;TZID=UTC:20260711T080000
DTSTAMP:20260423T190102
CREATED:20260129T131323Z
LAST-MODIFIED:20260209T143422Z
UID:538-1783756800-1783756800@grayslakechamber.com
SUMMARY:5K Race and Fun Run
DESCRIPTION:A fun\, family-friendly event for all fitness levels! \nWhether you are a runner or just in it for the fun\, join us to get active\, give back\, and enjoy our Grayslake community! \nRegister today \nFor more information\, call (847) 223-6888
URL:https://grayslakechamber.com/event/5k-race-and-fun-run/
LOCATION:Village Center
CATEGORIES:Grayslake Chamber Event
ATTACH;FMTTYPE=image/png:https://grayslakechamber.com/wp-content/uploads/2026/01/Grayslake-Chamber-5K-and-Fun-Run-2026.png
END:VEVENT
BEGIN:VEVENT
DTSTART;VALUE=DATE:20260725
DTEND;VALUE=DATE:20260726
DTSTAMP:20260423T190102
CREATED:20260224T194207Z
LAST-MODIFIED:20260410T171351Z
UID:592-1784937600-1785023999@grayslakechamber.com
SUMMARY:Battle of the Bands - Formerly Grayslake Summer Nights
DESCRIPTION:Two stages of live music! \nLocal vendors\, food\, beer\, and more \nStay tuned for information on bands and attractions
URL:https://grayslakechamber.com/event/battle-of-the-bands-formerly-grayslake-summer-nights/
LOCATION:Village Center
CATEGORIES:Grayslake Chamber Event
ATTACH;FMTTYPE=image/png:https://grayslakechamber.com/wp-content/uploads/2026/02/Screenshot-2026-04-10-at-12.13.32-PM.png
END:VEVENT
BEGIN:VEVENT
DTSTART;VALUE=DATE:20260806
DTEND;VALUE=DATE:20260807
DTSTAMP:20260423T190102
CREATED:20260224T194410Z
LAST-MODIFIED:20260410T172053Z
UID:595-1785974400-1786060799@grayslakechamber.com
SUMMARY:Chamber Golf Outing
DESCRIPTION:At Stonewall Orchard Golf Club. \nFor more information or to sponsor\, contact the Grayslake Chamber.
URL:https://grayslakechamber.com/event/chamber-golf-outing-2/
LOCATION:Stonewall Orchard Golf Club\, 25675 IL-60\, Grayslake\, IL\, 60030\, United States
CATEGORIES:Grayslake Chamber Event
ATTACH;FMTTYPE=image/png:https://grayslakechamber.com/wp-content/uploads/2026/02/Screenshot-2026-04-10-at-10.23.47-AM.png
END:VEVENT
BEGIN:VEVENT
DTSTART;TZID=UTC:20260815T130000
DTEND;TZID=UTC:20260815T130000
DTSTAMP:20260423T190102
CREATED:20260224T194701Z
LAST-MODIFIED:20260410T144222Z
UID:598-1786798800-1786798800@grayslakechamber.com
SUMMARY:Grayslake Summer Fest
DESCRIPTION:PARADE\, LIVE MUSIC\, FOOD TRUCKS\, CRAFT BEER\, BINGO AND MUCH MORE! \n1:00PM PARADE – DOWNTOWN GRAYSLAKE \n3:00PM BOTB WINNER FROM SUMMER NIGHTS \n4:00PM SCHOOL OF ROCK LIBERTYVILLE \n5:30PM LAST ONE STANDING ROCK COVERS + ORIGINALS \n6:30PM THE RED ROSES MILLENNIAL ALT + INDIE HITS \n8:30PM BOY MOB BOY BAND TRIBUTE \n10:30PM 7TH HEAVEN POP/ROCK/DANCE COVERS + ORIGINALS \nFor sponsorship\, vendor\, or volunteer opportunities\, please contact: thegreatergrayslakechamber@gmail.com \nFor more information\, contact the Grayslake Chamber.
URL:https://grayslakechamber.com/event/grayslake-summer-fest/
LOCATION:Grayslake Festival Grounds 33 S. Whitney St.\, Grayslake\, Illinois\, 60030\, Grayslake Festival Grounds 33 S. Whitney St.\, Grayslake\, Illinois\, 60030
CATEGORIES:Grayslake Chamber Event
ATTACH;FMTTYPE=image/png:https://grayslakechamber.com/wp-content/uploads/2026/02/GL-Summerfest.png
END:VEVENT
BEGIN:VEVENT
DTSTART;VALUE=DATE:20261017
DTEND;VALUE=DATE:20261018
DTSTAMP:20260423T190102
CREATED:20260224T194829Z
LAST-MODIFIED:20260410T163959Z
UID:600-1792195200-1792281599@grayslakechamber.com
SUMMARY:Sips and Sweets Sparkling Wine Walk
DESCRIPTION:More details to come. \nFor more information or to sponsor\, contact the Grayslake Chamber.
URL:https://grayslakechamber.com/event/sips-and-sweets-sparkling-wine-walk/
LOCATION:Village Center
CATEGORIES:Grayslake Chamber Event
ATTACH;FMTTYPE=image/png:https://grayslakechamber.com/wp-content/uploads/2026/02/Screenshot-2026-04-10-at-11.39.33-AM.png
END:VEVENT
BEGIN:VEVENT
DTSTART;VALUE=DATE:20261024
DTEND;VALUE=DATE:20261025
DTSTAMP:20260423T190102
CREATED:20260224T194922Z
LAST-MODIFIED:20260410T164132Z
UID:602-1792800000-1792886399@grayslakechamber.com
SUMMARY:Business Trick or Treat
DESCRIPTION:More details to come. \nFor more information or to sponsor\, contact the Grayslake Chamber.
URL:https://grayslakechamber.com/event/business-trick-or-treat-2/
LOCATION:Village Center
CATEGORIES:Grayslake Chamber Event
ATTACH;FMTTYPE=image/png:https://grayslakechamber.com/wp-content/uploads/2026/02/Screenshot-2026-04-10-at-11.41.20-AM.png
END:VEVENT
BEGIN:VEVENT
DTSTART;VALUE=DATE:20261127
DTEND;VALUE=DATE:20261128
DTSTAMP:20260423T190102
CREATED:20260224T195009Z
LAST-MODIFIED:20260410T164058Z
UID:604-1795737600-1795823999@grayslakechamber.com
SUMMARY:Festival of Lights and Holiday Market
DESCRIPTION:More details to come. \nFor more information or to sponsor\, contact the Grayslake Chamber.
URL:https://grayslakechamber.com/event/festival-of-lights-and-holiday-market-2/
LOCATION:Village Center
CATEGORIES:Grayslake Chamber Event
ATTACH;FMTTYPE=image/png:https://grayslakechamber.com/wp-content/uploads/2026/02/Screenshot-2026-04-10-at-11.40.30-AM.png
END:VEVENT
END:VCALENDAR